BEGIN:VCALENDAR
VERSION:2.0
PRODID:-//ChamberMaster//Event Calendar 2.0//EN
METHOD:PUBLISH
X-PUBLISHED-TTL:P3D
REFRESH-INTERVAL:P3D
CALSCALE:GREGORIAN
BEGIN:VEVENT
DTSTART;VALUE=DATE:20111116
DTEND;VALUE=DATE:20111117
TRANSP:TRANSPARENT
X-MICROSOFT-CDO-ALLDAYEVENT:TRUE
SUMMARY:2011 Key Awards Ceremony
DESCRIPTION:
X-ALT-DESC;FMTTYPE=text/html:
LOCATION:519 W. Algonquin Rd. Arlington Hgts\, IL 60008
UID:e.9259.10
SEQUENCE:3
DTSTAMP:20260419T220241Z
URL:http://hbagc.memberzone.com/events/details/2011-key-awards-ceremony-11-16-2011-10
END:VEVENT

END:VCALENDAR
