BEGIN:VCALENDAR
VERSION:2.0
PRODID:-//ChamberMaster//Event Calendar 2.0//EN
METHOD:PUBLISH
X-PUBLISHED-TTL:P3D
REFRESH-INTERVAL:P3D
CALSCALE:GREGORIAN
BEGIN:VEVENT
DTSTART;VALUE=DATE:20110913
DTEND;VALUE=DATE:20110914
TRANSP:TRANSPARENT
X-MICROSOFT-CDO-ALLDAYEVENT:TRUE
SUMMARY:Bags and BBQ
DESCRIPTION:
X-ALT-DESC;FMTTYPE=text/html:
LOCATION:16261 S. Frontage Rd. E Plainfield\, IL 60000
UID:e.9259.37
SEQUENCE:3
DTSTAMP:20260420T015924Z
URL:http://hbagc.memberzone.com/events/details/bags-and-bbq-09-13-2011-37
END:VEVENT

END:VCALENDAR
