BEGIN:VCALENDAR
VERSION:2.0
PRODID:-//ChamberMaster//Event Calendar 2.0//EN
METHOD:PUBLISH
X-PUBLISHED-TTL:P3D
REFRESH-INTERVAL:P3D
CALSCALE:GREGORIAN
BEGIN:VEVENT
DTSTART:20110727T170000Z
DTEND:20110727T230000Z
X-MICROSOFT-CDO-ALLDAYEVENT:FALSE
SUMMARY:Board of Directors Meeting
DESCRIPTION:
X-ALT-DESC;FMTTYPE=text/html:
LOCATION:5999 S. New Wilke Rd. Suite 104 Rolling Meadows\, IL 60008
UID:e.9259.40
SEQUENCE:3
DTSTAMP:20260420T070252Z
URL:http://hbagc.memberzone.com/events/details/board-of-directors-meeting-07-27-2011-40
END:VEVENT

END:VCALENDAR
