BEGIN:VCALENDAR
VERSION:2.0
PRODID:-//ChamberMaster//Event Calendar 2.0//EN
METHOD:PUBLISH
X-PUBLISHED-TTL:P3D
REFRESH-INTERVAL:P3D
CALSCALE:GREGORIAN
BEGIN:VEVENT
DTSTART:20120308T180000Z
DTEND:20120309T180000Z
X-MICROSOFT-CDO-ALLDAYEVENT:FALSE
SUMMARY:CAPS Certification
DESCRIPTION:
X-ALT-DESC;FMTTYPE=text/html:
LOCATION:5999 S. New Wilke Rd. Suite 108 Rolling Meadows\, IL 60008
UID:e.9259.61
SEQUENCE:3
DTSTAMP:20260419T183546Z
URL:http://hbagc.memberzone.com/events/details/caps-certification-03-08-2012-61
END:VEVENT

END:VCALENDAR
