BEGIN:VCALENDAR
VERSION:2.0
PRODID:-//ChamberMaster//Event Calendar 2.0//EN
METHOD:PUBLISH
X-PUBLISHED-TTL:P3D
REFRESH-INTERVAL:P3D
CALSCALE:GREGORIAN
BEGIN:VEVENT
DTSTART;VALUE=DATE:20091209
DTEND;VALUE=DATE:20091210
TRANSP:TRANSPARENT
X-MICROSOFT-CDO-ALLDAYEVENT:TRUE
SUMMARY:City Chapter Holiday Party
DESCRIPTION:
X-ALT-DESC;FMTTYPE=text/html:
LOCATION:1633 N Halsted Chicago\, IL 60610
UID:e.9259.22
SEQUENCE:3
DTSTAMP:20260421T230336Z
URL:http://hbagc.memberzone.com/events/details/city-chapter-holiday-party-12-09-2009-22
END:VEVENT

END:VCALENDAR
