BEGIN:VCALENDAR
VERSION:2.0
PRODID:-//ChamberMaster//Event Calendar 2.0//EN
METHOD:PUBLISH
X-PUBLISHED-TTL:P3D
REFRESH-INTERVAL:P3D
CALSCALE:GREGORIAN
BEGIN:VEVENT
DTSTART:20221208T140000Z
DTEND:20221208T153000Z
X-MICROSOFT-CDO-ALLDAYEVENT:FALSE
SUMMARY:ComEd Slipstream Webinar
DESCRIPTION:Join us for a conversation on decarbonizing new construction homes and how air source heat pump (ASHP) technology is transforming how we build for the future. Our expert team will cover everything you need to know to make heat pumps part of your business as a builder or HVAC contractor\, including a deep dive into how ASHPs can support both dual-fuel and all-electric home applications.\n\n \nThursday\, December 8\n\n8:00 - 9:30 AM CST\n\nRegister Here\n\nPlus\, attendees will learn how to identify and leverage the ComEd Electric New Homes offering and incentives. You don't want to miss this free webinar! If you have difficulty registering\, please contact us directly at ComEdHVACTraining@slipstreaminc.org.
X-ALT-DESC;FMTTYPE=text/html:<i style="caret-color: rgb(0\, 0\, 0)\; color: rgb(0\, 0\, 0)\; font-family: &quot\;Times New Roman&quot\;\, serif\; font-size: 16px\; text-size-adjust: auto\;"><span style="font-size: 11pt\; line-height: 16.866666793823242px\; font-family: Calibri\, sans-serif\;">Join us for a conversation on decarbonizing new construction homes and how air source heat pump (ASHP) technology is transforming how we build for the future. Our expert team will cover everything you need to know to make heat pumps part of your business as a builder or HVAC contractor\, including a deep dive into how ASHPs can support both dual-fuel and all-electric home applications.</span></i><br />\n&nbsp\;\n<p class="paragraph" style="margin-right: 0in\; margin-left: 0in\; font-size: 12pt\; font-family: &quot\;Times New Roman&quot\;\, serif\; caret-color: rgb(0\, 0\, 0)\; color: rgb(0\, 0\, 0)\; text-size-adjust: auto\; line-height: 18.4px\; vertical-align: baseline\;"><span class="normaltextrun"><i><span style="font-size: 11pt\; line-height: 16.8667px\; font-family: Calibri\, sans-serif\;">Thursday\, December 8</span></i></span><br />\n<span class="normaltextrun"><i><span style="font-size: 11pt\; line-height: 16.8667px\; font-family: Calibri\, sans-serif\;">8:00 - 9:30 AM CST</span></i></span><br />\n<span class="normaltextrun"><i><span style="font-size: 11pt\; line-height: 16.8667px\; font-family: Calibri\, sans-serif\;"><a href="https://us02web.zoom.us/webinar/register/WN_DxN2DrKMQmK6mWT-_FmiNg" style="color: blue\;">Register Here</a><o:p></o:p></span></i></span></p>\n\n<p class="paragraph" style="margin-right: 0in\; margin-left: 0in\; font-size: 12pt\; font-family: &quot\;Times New Roman&quot\;\, serif\; caret-color: rgb(0\, 0\, 0)\; color: rgb(0\, 0\, 0)\; text-size-adjust: auto\; line-height: 18.4px\; vertical-align: baseline\;"><span class="normaltextrun"><i><span style="font-size: 11pt\; line-height: 16.866666793823242px\; font-family: Calibri\, sans-serif\;">Plus\, attendees will learn how to identify and leverage the ComEd Electric New Homes offering and incentives. You don&rsquo\;t want to miss this free webinar! </span></i></span><span class="eop"><i><span style="font-size: 11pt\; line-height: 16.866666793823242px\; font-family: Calibri\, sans-serif\;">If you have difficulty registering\, please contact us directly at <a href="mailto:ComEdHVACTraining@slipstreaminc.org" style="color: blue\;">ComEdHVACTraining@slipstreaminc.org</a>.</span></i></span></p>\n
LOCATION:
UID:e.9259.3988
SEQUENCE:3
DTSTAMP:20260424T095901Z
URL:http://hbagc.memberzone.com/events/details/comed-slipstream-webinar-3988
END:VEVENT

END:VCALENDAR
