BEGIN:VCALENDAR
VERSION:2.0
PRODID:-//ChamberMaster//Event Calendar 2.0//EN
METHOD:PUBLISH
X-PUBLISHED-TTL:P3D
REFRESH-INTERVAL:P3D
CALSCALE:GREGORIAN
BEGIN:VEVENT
DTSTART:20100625T230000Z
DTEND:20100625T170000Z
X-MICROSOFT-CDO-ALLDAYEVENT:FALSE
SUMMARY:Day At the Lake
DESCRIPTION:
X-ALT-DESC;FMTTYPE=text/html:
LOCATION:South Shore Club Lake Geneva\, WI 00000
UID:e.9259.24
SEQUENCE:3
DTSTAMP:20260421T074718Z
URL:http://hbagc.memberzone.com/events/details/day-at-the-lake-06-25-2010-24
END:VEVENT

END:VCALENDAR
