BEGIN:VCALENDAR
VERSION:2.0
PRODID:-//ChamberMaster//Event Calendar 2.0//EN
METHOD:PUBLISH
X-PUBLISHED-TTL:P3D
REFRESH-INTERVAL:P3D
CALSCALE:GREGORIAN
BEGIN:VEVENT
DTSTART;VALUE=DATE:20100302
DTEND;VALUE=DATE:20100303
TRANSP:TRANSPARENT
X-MICROSOFT-CDO-ALLDAYEVENT:TRUE
SUMMARY:Elliott Eisenberg
DESCRIPTION:
X-ALT-DESC;FMTTYPE=text/html:&nbsp\;
LOCATION:196 Exchange Blvd Glendale Heights\, IL 60101
UID:e.9259.48
SEQUENCE:3
DTSTAMP:20260421T210944Z
URL:http://hbagc.memberzone.com/events/details/elliott-eisenberg-03-02-2010-48
END:VEVENT

END:VCALENDAR
