BEGIN:VCALENDAR
VERSION:2.0
PRODID:-//ChamberMaster//Event Calendar 2.0//EN
METHOD:PUBLISH
X-PUBLISHED-TTL:P3D
REFRESH-INTERVAL:P3D
CALSCALE:GREGORIAN
BEGIN:VEVENT
DTSTART;VALUE=DATE:20120319
DTEND;VALUE=DATE:20120320
TRANSP:TRANSPARENT
X-MICROSOFT-CDO-ALLDAYEVENT:TRUE
SUMMARY:Energy Efficiency Program Nicor/ComEd
DESCRIPTION:
X-ALT-DESC;FMTTYPE=text/html:
LOCATION:5999 S. New Wilke Rd. Suite 108 Rolling Meadows\, IL 60008
UID:e.9259.51
SEQUENCE:3
DTSTAMP:20260419T184009Z
URL:http://hbagc.memberzone.com/events/details/energy-efficiency-program-nicor-comed-03-19-2012-51
END:VEVENT

END:VCALENDAR
