BEGIN:VCALENDAR
VERSION:2.0
PRODID:-//ChamberMaster//Event Calendar 2.0//EN
METHOD:PUBLISH
X-PUBLISHED-TTL:P3D
REFRESH-INTERVAL:P3D
CALSCALE:GREGORIAN
BEGIN:VEVENT
DTSTART;VALUE=DATE:20100729
DTEND;VALUE=DATE:20100730
TRANSP:TRANSPARENT
X-MICROSOFT-CDO-ALLDAYEVENT:TRUE
SUMMARY:Golf Outing
DESCRIPTION:
X-ALT-DESC;FMTTYPE=text/html:
LOCATION:26W Butterfield Rd. Wheaton\, IL 60189
UID:e.9259.70
SEQUENCE:3
DTSTAMP:20260421T054615Z
URL:http://hbagc.memberzone.com/events/details/golf-outing-07-29-2010-70
END:VEVENT

END:VCALENDAR
