BEGIN:VCALENDAR
VERSION:2.0
PRODID:-//ChamberMaster//Event Calendar 2.0//EN
METHOD:PUBLISH
X-PUBLISHED-TTL:P3D
REFRESH-INTERVAL:P3D
CALSCALE:GREGORIAN
BEGIN:VEVENT
DTSTART:20100928T230000Z
DTEND:20100928T170000Z
X-MICROSOFT-CDO-ALLDAYEVENT:FALSE
SUMMARY:Gypsum Plant Tour
DESCRIPTION:Lunch\, Talk & Tour 11:30-1:00 p.m.
X-ALT-DESC;FMTTYPE=text/html:Lunch\, Talk &amp\; Tour 11:30-1:00 p.m.
LOCATION:515 Seahorse Drive Waukegan\, IL 60085
UID:e.9259.84
SEQUENCE:3
DTSTAMP:20260421T030356Z
URL:http://hbagc.memberzone.com/events/details/gypsum-plant-tour-09-28-2010-84
END:VEVENT

END:VCALENDAR
