BEGIN:VCALENDAR
VERSION:2.0
PRODID:-//ChamberMaster//Event Calendar 2.0//EN
METHOD:PUBLISH
X-PUBLISHED-TTL:P3D
REFRESH-INTERVAL:P3D
CALSCALE:GREGORIAN
BEGIN:VEVENT
DTSTART:20120301T000000Z
DTEND:20120229T180000Z
X-MICROSOFT-CDO-ALLDAYEVENT:FALSE
SUMMARY:HBAGC Board of Directors Meeting
DESCRIPTION:
X-ALT-DESC;FMTTYPE=text/html:
LOCATION:5999 S. New Wilke Rd. Suite 108 Rolling Meadows\, IL 60008
UID:e.9259.88
SEQUENCE:3
DTSTAMP:20260419T164837Z
URL:http://hbagc.memberzone.com/events/details/hbagc-board-of-directors-meeting-02-29-2012-88
END:VEVENT

END:VCALENDAR
