BEGIN:VCALENDAR
VERSION:2.0
PRODID:-//ChamberMaster//Event Calendar 2.0//EN
METHOD:PUBLISH
X-PUBLISHED-TTL:P3D
REFRESH-INTERVAL:P3D
CALSCALE:GREGORIAN
BEGIN:VEVENT
DTSTART;VALUE=DATE:20090604
DTEND;VALUE=DATE:20090605
TRANSP:TRANSPARENT
X-MICROSOFT-CDO-ALLDAYEVENT:TRUE
SUMMARY:HBAGC Regional Board Meeting
DESCRIPTION:Meeting to fill current vacancies on the HBAGC Executive Committee and Regional Board of Directors. Registration is meant to keep track of those who plan on attending to insure proper space is provided.
X-ALT-DESC;FMTTYPE=text/html:Meeting to fill current vacancies on the HBAGC Executive Committee and Regional Board of Directors. Registration is meant to keep track of those who plan on attending to insure proper space is provided.
LOCATION:1841 W. Army Trail Rd Addison\, IL 60101
UID:e.9259.94
SEQUENCE:3
DTSTAMP:20260422T175350Z
URL:http://hbagc.memberzone.com/events/details/hbagc-regional-board-meeting-06-04-2009-94
END:VEVENT

END:VCALENDAR
