BEGIN:VCALENDAR
VERSION:2.0
PRODID:-//ChamberMaster//Event Calendar 2.0//EN
METHOD:PUBLISH
X-PUBLISHED-TTL:P3D
REFRESH-INTERVAL:P3D
CALSCALE:GREGORIAN
BEGIN:VEVENT
DTSTART;VALUE=DATE:20101208
DTEND;VALUE=DATE:20101209
TRANSP:TRANSPARENT
X-MICROSOFT-CDO-ALLDAYEVENT:TRUE
SUMMARY:HBAI Meeting
DESCRIPTION:Details to follow
X-ALT-DESC;FMTTYPE=text/html:Details to follow
LOCATION:
UID:e.9259.98
SEQUENCE:3
DTSTAMP:20260420T191043Z
URL:http://hbagc.memberzone.com/events/details/hbai-meeting-12-08-2010-98
END:VEVENT

END:VCALENDAR
