BEGIN:VCALENDAR
VERSION:2.0
PRODID:-//ChamberMaster//Event Calendar 2.0//EN
METHOD:PUBLISH
X-PUBLISHED-TTL:P3D
REFRESH-INTERVAL:P3D
CALSCALE:GREGORIAN
BEGIN:VEVENT
DTSTART:20090502T170000Z
DTEND:20090517T170000Z
X-MICROSOFT-CDO-ALLDAYEVENT:FALSE
SUMMARY:House & Home Tour
DESCRIPTION:http://www.hbagc.com/index/tour.html   Scattered site tour featuring homes throughout Northern Ilinois.  Homes will be available for viewing from 11:00 a.m. to 5:00 p.m. Saturday and Sunday May 2-3 May 9-10 and May 16-17.  You will only be able to view the Remodeled Homes on May 16-17.  Check back on May 15th for address and directions to those homes.  Admission is FREE with coupon from the newspapers.    Verizon Wireless will feature their new HUB phone in two of the homes\, as well as the new storm and their World Edition Blackberry.  Featured sponsors for this event are Verizon Wireless and  Marvin Windows and Doors
X-ALT-DESC;FMTTYPE=text/html:http://www.hbagc.com/index/tour.html &nbsp\; Scattered site tour featuring homes throughout Northern Ilinois.&nbsp\; Homes will be available for viewing from 11:00 a.m. to 5:00 p.m. Saturday and Sunday May 2-3 May 9-10 and May 16-17.&nbsp\;&nbsp\;You will&nbsp\;only be able&nbsp\;to view the Remodeled&nbsp\;Homes on May 16-17.&nbsp\; Check back on May 15th for&nbsp\;address and directions to&nbsp\;those homes.&nbsp\; Admission&nbsp\;is FREE with coupon from&nbsp\;the newspapers.&nbsp\;&nbsp\;&nbsp\; Verizon Wireless will feature their new HUB phone in two of the homes\, as well as the new storm and their World Edition Blackberry.&nbsp\; Featured sponsors for this event are Verizon Wireless&nbsp\;and&nbsp\; Marvin Windows and Doors &nbsp\;
LOCATION:
UID:e.9259.105
SEQUENCE:3
DTSTAMP:20260422T162757Z
URL:http://hbagc.memberzone.com/events/details/house-home-tour-05-02-2009-105
END:VEVENT

END:VCALENDAR
