BEGIN:VCALENDAR
VERSION:2.0
PRODID:-//ChamberMaster//Event Calendar 2.0//EN
METHOD:PUBLISH
X-PUBLISHED-TTL:P3D
REFRESH-INTERVAL:P3D
CALSCALE:GREGORIAN
BEGIN:VEVENT
DTSTART;VALUE=DATE:20120306
DTEND;VALUE=DATE:20120307
TRANSP:TRANSPARENT
X-MICROSOFT-CDO-ALLDAYEVENT:TRUE
SUMMARY:IBS Recap
DESCRIPTION:
X-ALT-DESC;FMTTYPE=text/html:
LOCATION:1400 Remington Blvd. Bolingbrook\, IL 60490
UID:e.9259.109
SEQUENCE:3
DTSTAMP:20260419T164614Z
URL:http://hbagc.memberzone.com/events/details/ibs-recap-03-06-2012-109
END:VEVENT

END:VCALENDAR
