BEGIN:VCALENDAR
VERSION:2.0
PRODID:-//ChamberMaster//Event Calendar 2.0//EN
METHOD:PUBLISH
X-PUBLISHED-TTL:P3D
REFRESH-INTERVAL:P3D
CALSCALE:GREGORIAN
BEGIN:VEVENT
DTSTART;VALUE=DATE:20110315
DTEND;VALUE=DATE:20110316
TRANSP:TRANSPARENT
X-MICROSOFT-CDO-ALLDAYEVENT:TRUE
SUMMARY:NKBA & HBAGC Education Event
DESCRIPTION:Normal   0               false   false   false      EN-US   X-NONE   X-NONE                                                     MicrosoftInternetExplorer4                                                                                                                                                                                                                                                                                                                                                                                                                                                                                        st1\\:*{behavior:url(#ieooui) }     /* Style Definitions */  table.MsoNormalTable    {mso-style-name:"Table Normal"\;    mso-tstyle-rowband-size:0\;    mso-tstyle-colband-size:0\;    mso-style-noshow:yes\;    mso-style-priority:99\;    mso-style-qformat:yes\;    mso-style-parent:""\;    mso-padding-alt:0in 5.4pt 0in 5.4pt\;    mso-para-margin:0in\;    mso-para-margin-bottom:.0001pt\;    mso-pagination:widow-orphan\;    font-size:10.0pt\;    font-family:"Times New Roman"\,"serif"\;}   Join us on March 15th when NKBA Chicago Chapter & Home Builders Association of Greater Chicago memberships combine for an evening of education and networking.   Our host Builders Cabinet Supply & Speaker Sponsor In-sink-erator Proudly present:   "THE TRAITS OF HIGHLY SUCCESSFUL PEOPLE   AND HOW YOU CAN BE ONE OF THEM"Join us on March 15th when NKBA Chicago Chapter & Home Builders Association of Greater Chicago memberships combine for an evening of education and networking.      Normal   0               false   false   false      EN-US   X-NONE   X-NONE                                                     MicrosoftInternetExplorer4                                                                                                                                                                                                                                                                                                                                                              <w:LsdException Locked="false" Priority="69" SemiHidden="false"    UnhideW
X-ALT-DESC;FMTTYPE=text/html:Normal   0               false   false   false      EN-US   X-NONE   X-NONE                                                     MicrosoftInternetExplorer4                                                                                                                                                                                                                                                                                                                                                                                                                                                                                        st1\\:*{behavior:url(#ieooui) }     /* Style Definitions */  table.MsoNormalTable    {mso-style-name:"Table Normal"\;    mso-tstyle-rowband-size:0\;    mso-tstyle-colband-size:0\;    mso-style-noshow:yes\;    mso-style-priority:99\;    mso-style-qformat:yes\;    mso-style-parent:""\;    mso-padding-alt:0in 5.4pt 0in 5.4pt\;    mso-para-margin:0in\;    mso-para-margin-bottom:.0001pt\;    mso-pagination:widow-orphan\;    font-size:10.0pt\;    font-family:"Times New Roman"\,"serif"\;}   Join us on March 15th when NKBA Chicago Chapter &amp\; Home Builders Association of Greater Chicago memberships combine for an evening of education and networking. &nbsp\; Our host Builders Cabinet Supply &amp\; Speaker Sponsor In-sink-erator Proudly present: &nbsp\; &ldquo\;THE TRAITS OF HIGHLY SUCCESSFUL PEOPLE &hellip\; AND HOW YOU CAN BE ONE OF THEM&rdquo\;Join us on March 15th when NKBA Chicago Chapter &amp\; Home Builders Association of Greater Chicago memberships combine for an evening of education and networking.      Normal   0               false   false   false      EN-US   X-NONE   X-NONE                                                     MicrosoftInternetExplorer4                                                                                                                                                                                                                                                                                                                                                              <w:LsdException Locked="false" Priority="69" SemiHidden="false"    UnhideW
LOCATION:401 N. Western Ave. Chicago\, IL 60612
UID:e.9259.150
SEQUENCE:3
DTSTAMP:20260420T153010Z
URL:http://hbagc.memberzone.com/events/details/nkba-hbagc-education-event-03-15-2011-150
END:VEVENT

END:VCALENDAR
