BEGIN:VCALENDAR
VERSION:2.0
PRODID:-//ChamberMaster//Event Calendar 2.0//EN
METHOD:PUBLISH
X-PUBLISHED-TTL:P3D
REFRESH-INTERVAL:P3D
CALSCALE:GREGORIAN
BEGIN:VEVENT
DTSTART;VALUE=DATE:20110406
DTEND;VALUE=DATE:20110407
TRANSP:TRANSPARENT
X-MICROSOFT-CDO-ALLDAYEVENT:TRUE
SUMMARY:OSHA Fall Protection Training Class
DESCRIPTION:v\\:* {behavior:url(#default#VML)\;} o\\:* {behavior:url(#default#VML)\;} w\\:* {behavior:url(#default#VML)\;} .shape {behavior:url(#default#VML)\;}       Normal   0               false   false   false      EN-US   X-NONE   X-NONE                                                     MicrosoftInternetExplorer4                                                                                                                                                                                                                                                                                                                                                                                                                                                                                         /* Style Definitions */  table.MsoNormalTable    {mso-style-name:"Table Normal"\;    mso-tstyle-rowband-size:0\;    mso-tstyle-colband-size:0\;    mso-style-noshow:yes\;    mso-style-priority:99\;    mso-style-qformat:yes\;    mso-style-parent:""\;    mso-padding-alt:0in 5.4pt 0in 5.4pt\;    mso-para-margin:0in\;    mso-para-margin-bottom:.0001pt\;    mso-pagination:widow-orphan\;    font-size:10.0pt\;    font-family:"Times New Roman"\,"serif"\;}
X-ALT-DESC;FMTTYPE=text/html:v\\:* {behavior:url(#default#VML)\;} o\\:* {behavior:url(#default#VML)\;} w\\:* {behavior:url(#default#VML)\;} .shape {behavior:url(#default#VML)\;}       Normal   0               false   false   false      EN-US   X-NONE   X-NONE                                                     MicrosoftInternetExplorer4                                                                                                                                                                                                                                                                                                                                                                                                                                                                                         /* Style Definitions */  table.MsoNormalTable    {mso-style-name:"Table Normal"\;    mso-tstyle-rowband-size:0\;    mso-tstyle-colband-size:0\;    mso-style-noshow:yes\;    mso-style-priority:99\;    mso-style-qformat:yes\;    mso-style-parent:""\;    mso-padding-alt:0in 5.4pt 0in 5.4pt\;    mso-para-margin:0in\;    mso-para-margin-bottom:.0001pt\;    mso-pagination:widow-orphan\;    font-size:10.0pt\;    font-family:"Times New Roman"\,"serif"\;}
LOCATION:5999 S. New Wilke Rd. Suite 108 Rolling Meadows\, IL 60008
UID:e.9259.156
SEQUENCE:3
DTSTAMP:20260420T174718Z
URL:http://hbagc.memberzone.com/events/details/osha-fall-protection-training-class-04-06-2011-156
END:VEVENT

END:VCALENDAR
