BEGIN:VCALENDAR
VERSION:2.0
PRODID:-//ChamberMaster//Event Calendar 2.0//EN
METHOD:PUBLISH
X-PUBLISHED-TTL:P3D
REFRESH-INTERVAL:P3D
CALSCALE:GREGORIAN
BEGIN:VEVENT
DTSTART:20230322T223000Z
DTEND:20230323T003000Z
X-MICROSOFT-CDO-ALLDAYEVENT:FALSE
SUMMARY:Realtor/Builder/Designer Mingle
DESCRIPTION:ASID Illinois' goal for this event is to network and meet Realtors and Builders in the Chicagoland area while learning about the services Cadogan Tate offers. This is an event that will be beneficial to the industry.\n\nBites and Drinks provided by Cadogan Tate.\n\nAmple street parking available after 5 p.m.\n\nASID Illinois will provide a free membership giveaway.
X-ALT-DESC;FMTTYPE=text/html:<p style="margin: 0px\; padding: 0px\; box-sizing: border-box\; color: rgb(111\, 114\, 135)\; font-size: 16px\; line-height: 1.5rem\; font-family: &quot\;Neue Plak&quot\;\, -apple-system\, &quot\;system-ui&quot\;\, Roboto\, &quot\;Helvetica Neue&quot\;\, Helvetica\, Tahoma\, Arial\, sans-serif\;">ASID Illinois&#39\; goal for this event is to network and meet Realtors and Builders in the Chicagoland area while learning about the services Cadogan Tate offers. This is an event that will be beneficial to the industry.</p>\n\n<p style="margin: 0px\; padding: 10px 0px 0px\; box-sizing: border-box\; color: rgb(111\, 114\, 135)\; font-size: 16px\; line-height: 1.5rem\; font-family: &quot\;Neue Plak&quot\;\, -apple-system\, &quot\;system-ui&quot\;\, Roboto\, &quot\;Helvetica Neue&quot\;\, Helvetica\, Tahoma\, Arial\, sans-serif\;">Bites and Drinks provided by Cadogan Tate.</p>\n\n<p style="margin: 0px\; padding: 10px 0px 0px\; box-sizing: border-box\; color: rgb(111\, 114\, 135)\; font-size: 16px\; line-height: 1.5rem\; font-family: &quot\;Neue Plak&quot\;\, -apple-system\, &quot\;system-ui&quot\;\, Roboto\, &quot\;Helvetica Neue&quot\;\, Helvetica\, Tahoma\, Arial\, sans-serif\;">Ample street parking available after 5 p.m.</p>\n\n<p style="margin: 0px\; padding: 10px 0px 0px\; box-sizing: border-box\; color: rgb(111\, 114\, 135)\; font-size: 16px\; line-height: 1.5rem\; font-family: &quot\;Neue Plak&quot\;\, -apple-system\, &quot\;system-ui&quot\;\, Roboto\, &quot\;Helvetica Neue&quot\;\, Helvetica\, Tahoma\, Arial\, sans-serif\;">ASID Illinois will provide a free membership giveaway.</p>\n
LOCATION:Cadogan Tate | Fine Art & Interior Designer Services | Moving & Storage Services 322 North Leavitt Street Chicago\, IL 60612
UID:e.9259.4200
SEQUENCE:3
DTSTAMP:20260424T012412Z
URL:http://hbagc.memberzone.com/events/details/realtor-builder-designer-mingle-4200
END:VEVENT

END:VCALENDAR
