BEGIN:VCALENDAR
VERSION:2.0
PRODID:-//ChamberMaster//Event Calendar 2.0//EN
METHOD:PUBLISH
X-PUBLISHED-TTL:P3D
REFRESH-INTERVAL:P3D
CALSCALE:GREGORIAN
BEGIN:VEVENT
DTSTART;VALUE=DATE:20100323
DTEND;VALUE=DATE:20100324
TRANSP:TRANSPARENT
X-MICROSOFT-CDO-ALLDAYEVENT:TRUE
SUMMARY:Remodeler Council Lunch & Learn
DESCRIPTION:
X-ALT-DESC;FMTTYPE=text/html:
LOCATION:1065 Thorndale Bensenville\, IL 60000
UID:e.9259.173
SEQUENCE:3
DTSTAMP:20260421T174435Z
URL:http://hbagc.memberzone.com/events/details/remodeler-council-lunch-learn-03-23-2010-173
END:VEVENT

END:VCALENDAR
