BEGIN:VCALENDAR
VERSION:2.0
PRODID:-//ChamberMaster//Event Calendar 2.0//EN
METHOD:PUBLISH
X-PUBLISHED-TTL:P3D
REFRESH-INTERVAL:P3D
CALSCALE:GREGORIAN
BEGIN:VEVENT
DTSTART;VALUE=DATE:20090922
DTEND;VALUE=DATE:20090923
TRANSP:TRANSPARENT
X-MICROSOFT-CDO-ALLDAYEVENT:TRUE
SUMMARY:Remodelers/Custom Builders
DESCRIPTION:Tyvek Weatherization System - more info to follow
X-ALT-DESC;FMTTYPE=text/html:Tyvek Weatherization System - more info to follow
LOCATION:
UID:e.9259.183
SEQUENCE:3
DTSTAMP:20260422T061358Z
URL:http://hbagc.memberzone.com/events/details/remodelers-custom-builders-09-22-2009-183
END:VEVENT

END:VCALENDAR
