BEGIN:VCALENDAR
VERSION:2.0
PRODID:-//ChamberMaster//Event Calendar 2.0//EN
METHOD:PUBLISH
X-PUBLISHED-TTL:P3D
REFRESH-INTERVAL:P3D
CALSCALE:GREGORIAN
BEGIN:VEVENT
DTSTART:20090825T230000Z
DTEND:20090825T170000Z
X-MICROSOFT-CDO-ALLDAYEVENT:FALSE
SUMMARY:Save Green by Building Green
DESCRIPTION:A fresh look at the Energy Star Homes and NAHB/ANSI Green Homes Certifications utilizing Optimum Value Engineering Join us for an evening of education\, fun and NETWORKING! Learn about innovative green building value engineering and follow-up with a fun evening enjoying the amenities of Belgravia's 565 Quincy "Q" Room which includes billiards\, bowling\, indoor putting green\, and more. Food and drink included. This unique home builder educational program will focus on how to use value engineering to cut costs and increase profits on new residential construction under both the Energy Star program and National Green Building Standard (NGBS) label. The 2006 IECC (International Energy Conservation Code) can make "going green" a possible profit center for the builder and/or developer if you know how to take advantage of new technology and building techniques. Optimum Value Engineering (OVE) offers an untapped resource for reducing builders ' hard costs while increasing material efficiency\, possibly making ENERGY STAR & NGBS labeling a profitable opportunity\, instead of a costly mandate. Please join us for this informative and profitable home builder education program: Tues.\, August 25\, 2009 4:30   5:30 p.m. Green Education Program 5:30   7:00 p.m. Networking (pizza\, beer\, bowling\, putting green\, billiards\, etc.) Speakers:  Sam Rashkin\, Director of EPA Energy Star Homes Program: Will bring the latest information on the programs achievements\, the labels impact on the environment\, and the increasing penetration of residential market. Michelle Desiderio\, Director of the NAHB Green Program: Will address builder questions about the fast-growing national acceptance of the new NAHB/ANSI National Green Building Standard (NGBS) and its impact on the residential marketplace. Jerry Thatcher\, President of Energy Diagnostics\, Inc.: Will provide green builder success stories in the Midwest and overview basic construction cost variables incorporating NGBS and Energy Star certifications.
X-ALT-DESC;FMTTYPE=text/html:A fresh look at the Energy Star Homes and NAHB/ANSI Green Homes Certifications utilizing Optimum Value Engineering Join us for an evening of education\, fun and NETWORKING! Learn about innovative green building value engineering and follow-up with a fun evening enjoying the amenities of Belgravia&rsquo\;s 565 Quincy &ldquo\;Q&rdquo\; Room which includes billiards\, bowling\, indoor putting green\, and more. Food and drink included. This unique home builder educational program will focus on how to use value engineering to cut costs and increase profits on new residential construction under both the Energy Star program and National Green Building Standard (NGBS) label. The 2006 IECC (International Energy Conservation Code) can make &ldquo\;going green&rdquo\; a possible profit center for the builder and/or developer if you know how to take advantage of new technology and building techniques. Optimum Value Engineering (OVE) offers an untapped resource for reducing builders &rsquo\; hard costs while increasing material efficiency\, possibly making ENERGY STAR &amp\; NGBS labeling a profitable opportunity\, instead of a costly mandate. Please join us for this informative and profitable home builder education program: Tues.\, August 25\, 2009 4:30 &ndash\; 5:30 p.m. Green Education Program 5:30 &ndash\; 7:00 p.m. Networking (pizza\, beer\, bowling\, putting green\, billiards\, etc.) Speakers:  Sam Rashkin\, Director of EPA Energy Star Homes Program: Will bring the latest information on the programs achievements\, the labels impact on the environment\, and the increasing penetration of residential market. Michelle Desiderio\, Director of the NAHB Green Program: Will address builder questions about the fast-growing national acceptance of the new NAHB/ANSI National Green Building Standard (NGBS) and its impact on the residential marketplace. Jerry Thatcher\, President of Energy Diagnostics\, Inc.: Will provide green builder success stories in the Midwest and overview basic construction cost variables incorporating NGBS and Energy Star certifications. &nbsp\; &nbsp\;
LOCATION:565 Quincy Chicago\, IL 60661
UID:e.9259.188
SEQUENCE:3
DTSTAMP:20260422T081324Z
URL:http://hbagc.memberzone.com/events/details/save-green-by-building-green-08-25-2009-188
END:VEVENT

END:VCALENDAR
