BEGIN:VCALENDAR
VERSION:2.0
PRODID:-//ChamberMaster//Event Calendar 2.0//EN
METHOD:PUBLISH
X-PUBLISHED-TTL:P3D
REFRESH-INTERVAL:P3D
CALSCALE:GREGORIAN
BEGIN:VEVENT
DTSTART:20100812T230000Z
DTEND:20100812T170000Z
X-MICROSOFT-CDO-ALLDAYEVENT:FALSE
SUMMARY:White Sox Patio Party
DESCRIPTION:
X-ALT-DESC;FMTTYPE=text/html:
LOCATION:
UID:e.9259.207
SEQUENCE:3
DTSTAMP:20260421T054856Z
URL:http://hbagc.memberzone.com/events/details/white-sox-patio-party-08-12-2010-207
END:VEVENT

END:VCALENDAR
