BEGIN:VCALENDAR
VERSION:2.0
PRODID:-//ChamberMaster//Event Calendar 2.0//EN
METHOD:PUBLISH
X-PUBLISHED-TTL:P3D
REFRESH-INTERVAL:P3D
CALSCALE:GREGORIAN
BEGIN:VEVENT
DTSTART;VALUE=DATE:20090826
DTEND;VALUE=DATE:20090827
TRANSP:TRANSPARENT
X-MICROSOFT-CDO-ALLDAYEVENT:TRUE
SUMMARY:Young Builders Council Cubs Rooftop Outing
DESCRIPTION:Join the members of the Young Builders Council as we cheer on the Cubs to victory over the Nationals!  Whether you are a fan or not\, experiencing a baseball game from the rooftops across Sheffield Drive is a truly uniquely Chicago experience.  Don't miss out!
X-ALT-DESC;FMTTYPE=text/html:Join the members of the Young Builders Council as we cheer on the Cubs to victory over the Nationals!&nbsp\; Whether you are a fan or not\, experiencing a baseball game from the rooftops across Sheffield Drive is a truly uniquely Chicago experience.&nbsp\; Don&rsquo\;t miss out!
LOCATION:3621 North Sheffield Chicago\, IL 60613
UID:e.9259.213
SEQUENCE:3
DTSTAMP:20260422T081223Z
URL:http://hbagc.memberzone.com/events/details/young-builders-council-cubs-rooftop-outing-08-26-2009-213
END:VEVENT

END:VCALENDAR
